BEGIN:VCALENDAR
PRODID:-//Microsoft Corporation//Outlook MIMEDIR//EN
VERSION:2.0
METHOD:PUBLISH
BEGIN:VEVENT
DTSTART:20260418T180000
DTEND:20260418T190000
DESCRIPTION:TEST MEETING
LOCATION:Hearing Room
SUMMARY:Planning Commission Regular Meeting
CATEGORIES:MEETING
END:VEVENT
END:VCALENDAR
